BEGIN:VCALENDAR
VERSION:2.0
PRODID:-//https://www.actraining.com.au///NONSGML kigkonsult.se iCalcreator 2.10.15//
METHOD:PUBLISH
BEGIN:VEVENT
UID:20200301T021524UTC-9961A9LezJ@https://www.actraining.com.au/
DTSTAMP:20200301T021524Z
DESCRIPTION: https://www.actraining.com.au/en/courses/event/603-intermediat
 e-scaffolding
DTSTART:20191209T000000Z
DTEND:20191213T141811Z
LOCATION:Australian Construction Training (3-5 Exell Street\, Banksmeadow N
 SW 2019)
SUMMARY: Intermediate Scaffolding
URL:https://www.actraining.com.au/en/courses/event/603-intermediate-scaffol
 ding
END:VEVENT
END:VCALENDAR
