BEGIN:VCALENDAR
VERSION:2.0
PRODID:-//https://www.actraining.com.au///NONSGML kigkonsult.se iCalcreator 2.10.15//
METHOD:PUBLISH
BEGIN:VEVENT
UID:20200301T021332UTC-8798jf6wTL@https://www.actraining.com.au/
DTSTAMP:20200301T021332Z
DESCRIPTION:By attending this course the participant will learn the practic
 al and theory aspects of working safely at heights.At ACT we are committed
  to provide comprehensive training that produces superior skills to lead t
 o a more productive and safer workplace.&nbsp\;Some aspects of the course 
 include:Equipment selection &amp\; inspectionCorrect use of fall restraint
  systemsUse of anchor systemsSafe use of a ladderIdentifing risks and haza
 rdsWorking to Australian regulations and standardsPREREQUISITESAbility to 
 understand and write English.18 years of ageParticipants must provide thei
 r own Personal Protective Equipment (PPE) including safety boots\, hard ha
 t and a high visibility vest.DURATION1 dayCOST$250 https://www.actraining.
 com.au/en/courses/event/462-work-safely-at-heights
DTSTART;VALUE=DATE:20200312
LOCATION: ()
SUMMARY: Work safely at heights
URL:https://www.actraining.com.au/en/courses/event/462-work-safely-at-heigh
 ts
END:VEVENT
END:VCALENDAR
