BEGIN:VCALENDAR
VERSION:2.0
PRODID:-//https://www.actraining.com.au///NONSGML kigkonsult.se iCalcreator 2.10.15//
METHOD:PUBLISH
BEGIN:VEVENT
UID:20200301T020544UTC-3374Wzj1LT@https://www.actraining.com.au/
DTSTAMP:20200301T020544Z
DESCRIPTION:By attending this course the participant will learn the enginee
 ring principles of operating an elevated work platform\, &amp\; identify p
 otentially hazardous situations in line with the unit of competency TLILIC
 20005. The course aim is to provide skills &amp\; knowledge to gain a Nati
 onal High Risk Work Licence class WP (Work Platform over 11 metres) upon s
 uccessful assessment.Some aspects of this training course include:Conduct 
 routine checksPlan workCheck controlsShutting downPlan elevationCarry out 
 elevationSetting upDismantlingTraining: Tuesday &amp\; Wednesday&nbsp\;Saf
 ework NSW Assessment: ThursdayTime: 7am - 3pm dailyCost: $675 https://www.
 actraining.com.au/en/calendar/event/719-wp-boom-length-11-metres-or-more
DTSTART:20200224T000000Z
DTEND:20200226T114927Z
LOCATION: ()
SUMMARY: WP(boom length 11 metres or more)
URL:https://www.actraining.com.au/en/calendar/event/719-wp-boom-length-11-m
 etres-or-more
END:VEVENT
END:VCALENDAR
