BEGIN:VCALENDAR
VERSION:2.0
PRODID:-//https://www.actraining.com.au///NONSGML kigkonsult.se iCalcreator 2.10.15//
METHOD:PUBLISH
BEGIN:VEVENT
UID:20200301T015318UTC-8593fnpjrp@https://www.actraining.com.au/
DTSTAMP:20200301T015318Z
DESCRIPTION: https://www.actraining.com.au/en/calendar/event/598-intermedia
 te-scaffolding
DTSTART:20200127T070000Z
DTEND:20200131T150000Z
LOCATION:Australian Construction Training (3-5 Exell Street\, Banksmeadow N
 SW 2019)
SUMMARY: Intermediate Scaffolding
URL:https://www.actraining.com.au/en/calendar/event/598-intermediate-scaffo
 lding
END:VEVENT
END:VCALENDAR
