BEGIN:VCALENDAR
VERSION:2.0
PRODID:-//https://www.actraining.com.au///NONSGML kigkonsult.se iCalcreator 2.10.15//
METHOD:PUBLISH
BEGIN:VEVENT
UID:20200301T022846UTC-9209jB6wVZ@https://www.actraining.com.au/
DTSTAMP:20200301T022846Z
DESCRIPTION:This course TLILIC4009 (Licence to operate slewing mobile crane
  up to 60t) will allow to perform crane operations in Australia upon succe
 ssful assessment for National High Risk Work Licence class C6. By attendin
 g this course the participant will learn the engineering principles of ope
 rating a crane\, &amp\; identify potential hazardous situations. Although 
 not a requirement under legislation\, ACT prefer applicants to hold a mini
 mum of one of the following National High Risk Work Licence classes to enr
 ol - DG (Dogging)\, CV (Vehicle Crane &gt\;10m/t)\, CN (Non Slewing Crane)
 \, C2 (Slewing Mobile Crane up to 20t).&nbsp\;At ACT we are committed to p
 rovide comprehensive training that produces superior skills to lead to a m
 ore productive and safer workplace.Some aspects of the course include:Asse
 ss and Secure Equipment and Work AreaConduct routine checksPlan workCheck 
 controls and lifting gearShut down craneSecure and Transfer LoadSecure loa
 dConduct trial liftTransfer loadSet up and Dismantle Mobile CranePlan asse
 mble/disassembleSet up craneDismantle craneCarry out Special Operations wi
 th Mobile CraneCarry out multiple crane liftTraining: Monday - Thursday&nb
 sp\;Safework NSW Assessment: FridayTime: 7am - 3pm dailyCost: $2200\n&nbsp
 \; https://www.actraining.com.au/en/calendar/event/593-c6
DTSTART:20200113T132358Z
DTEND:20200117T132358Z
LOCATION: ()
SUMMARY:C6
URL:https://www.actraining.com.au/en/calendar/event/593-c6
END:VEVENT
END:VCALENDAR
