BEGIN:VCALENDAR
VERSION:2.0
PRODID:-//https://www.actraining.com.au///NONSGML kigkonsult.se iCalcreator 2.10.15//
METHOD:PUBLISH
BEGIN:VEVENT
UID:20200301T022548UTC-0911UO87uU@https://www.actraining.com.au/
DTSTAMP:20200301T022548Z
DESCRIPTION:YELLOW CARDThe Yellow Card will allow you to legally operate sc
 issor lifts (no restriction)\, vertical lifts (no restriction) and boom li
 fts (up to 11 metres). It also covers truck mounted and trailer mounted de
 vices as well. These are all contained in separate modules.Scissor Lift-&n
 bsp\;&nbsp\;&nbsp\;&nbsp\;&nbsp\;&nbsp\; &nbsp\;&nbsp\;&nbsp\;&nbsp\;&nbsp
 \;&nbsp\;&nbsp\;&nbsp\;&nbsp\;&nbsp\;&nbsp\;&nbsp\;&nbsp\;&nbsp\;&nbsp\;SL
 Boom Lift&nbsp\;&nbsp\;&nbsp\;&nbsp\;&nbsp\;&nbsp\;&nbsp\;&nbsp\;&nbsp\; &
 nbsp\;&nbsp\;&nbsp\;&nbsp\;&nbsp\;&nbsp\;&nbsp\;&nbsp\;&nbsp\;&nbsp\;&nbsp
 \;&nbsp\;&nbsp\;&nbsp\;&nbsp\;BLVertical Lift&nbsp\;&nbsp\;&nbsp\;&nbsp\;&
 nbsp\;&nbsp\;&nbsp\; &nbsp\;&nbsp\;&nbsp\;&nbsp\;&nbsp\;&nbsp\;&nbsp\;&nbs
 p\;&nbsp\;&nbsp\;&nbsp\;&nbsp\;&nbsp\;&nbsp\;VL*The other modules\, TL\, T
 M and T are available upon request.&nbsp\;Start time: 07:00amFinish time: 
 approximately 15:00pmTrainee will be required to bring photo identificatio
 n\, hi-vis and wear steep cap boots.There is ample street parking at this 
 time of the morning as well as spaces in the yard.&nbsp\;Cost: $350.00 GST
  FREE https://www.actraining.com.au/en/calendar/event/559-yellow-card
DTSTART;VALUE=DATE:20200106
LOCATION: ()
SUMMARY: Yellow Card
URL:https://www.actraining.com.au/en/calendar/event/559-yellow-card
END:VEVENT
END:VCALENDAR
