BEGIN:VCALENDAR
VERSION:2.0
PRODID:-//https://www.actraining.com.au///NONSGML kigkonsult.se iCalcreator 2.10.15//
METHOD:PUBLISH
BEGIN:VEVENT
UID:20200301T020245UTC-24631um1Hj@https://www.actraining.com.au/
DTSTAMP:20200301T020245Z
DESCRIPTION: https://www.actraining.com.au/en/calendar/event/550-intermedia
 te-scaffolding
DTSTART:20200217T093249Z
DTEND:20200221T093249Z
LOCATION:Australian Construction Training (3-5 Exell Street\, Banksmeadow N
 SW 2019)
SUMMARY:Intermediate Scaffolding
URL:https://www.actraining.com.au/en/calendar/event/550-intermediate-scaffo
 lding
END:VEVENT
END:VCALENDAR
