BEGIN:VCALENDAR
VERSION:2.0
PRODID:-//https://www.actraining.com.au///NONSGML kigkonsult.se iCalcreator 2.10.15//
METHOD:PUBLISH
BEGIN:VEVENT
UID:20200301T022909UTC-4229xtlcfm@https://www.actraining.com.au/
DTSTAMP:20200301T022909Z
DESCRIPTION:By attending this course the participant will learn the enginee
 ring principles of operating an elevated work platform\, &amp\; identify p
 otentially hazardous situations in line with the unit of competency TLILIC
 2005. The course aim is to provide skills &amp\; knowledge to gain a Natio
 nal High Risk Work Licence class WP (Work Platform over 11 metres) upon su
 ccessful assessment.Some aspects of this training course include:Conduct r
 outine checksPlan workCheck controlsShutting downPlan elevationCarry out e
 levationSetting upDismantlingTraining: Tuesday &amp\; Wednesday&nbsp\;Safe
 work Assessment: ThursdayTime: 7am - 3pm dailyCost: $725\n&nbsp\; https://
 www.actraining.com.au/en/calendar/event/295-tlilic0005-licence-to-operate-
 a-boom-type-elevating-work-platform-boom-length-11-metres-or-more
DTSTART:20200113T000000Z
DTEND:20200115T150701Z
LOCATION: ()
SUMMARY:TLILIC0005 Licence to operate a boom-type elevating work platform (
 boom length 11 metres or more)
URL:https://www.actraining.com.au/en/calendar/event/295-tlilic0005-licence-
 to-operate-a-boom-type-elevating-work-platform-boom-length-11-metres-or-mo
 re
END:VEVENT
END:VCALENDAR
