BEGIN:VCALENDAR
VERSION:2.0
PRODID:-//https://www.actraining.com.au///NONSGML kigkonsult.se iCalcreator 2.10.15//
METHOD:PUBLISH
BEGIN:VEVENT
UID:20200301T020354UTC-9370V6A58I@https://www.actraining.com.au/
DTSTAMP:20200301T020354Z
DESCRIPTION:Our dogging course CPCCLDG3001A (Licence to perform dogging) is
  designed to provide participants with the fundamentals &amp\; confidence 
 to perform dogging work safely. At ACT we are committed to provide compreh
 ensive training that produces superior skills to lead to a more productive
  &amp\; safer workplace. Upon successful assessment trainee&#39\;s will ho
 ld a National Licence To Perform High Risk Work Class DG (Dogging).Some as
 pects of the course include:Work health &amp\; safetyJob planning &ndash\;
  hazard identification &amp\; put in place measures for safe movement of l
 oadsDetermine weights of loads using calculationsUse\, maintenance &amp\; 
 inspection of lifting gear &amp\; associated equipmentSelect &amp\; apply 
 slings &amp\; slinging techniques for various loadsDirect crane movements 
 using hand\, whistle &amp\; two way radio signalsApply bends &amp\; hitche
 s to various loads&nbsp\;Training: Monday - ThursdaySafework NSW Assessmen
 t: FridayTime: 7am - 3pm dailyCost: $1500.00 https://www.actraining.com.au
 /en/calendar/event/499-dogging
DTSTART:20200217T070000Z
DTEND:20200221T150000Z
LOCATION:Australian Construction Training   (3-5 Exell Street\, Banksmeadow
  NSW 2019)
SUMMARY:Dogging 
URL:https://www.actraining.com.au/en/calendar/event/499-dogging
END:VEVENT
END:VCALENDAR
