BEGIN:VCALENDAR
VERSION:2.0
PRODID:-//https://www.actraining.com.au///NONSGML kigkonsult.se iCalcreator 2.10.15//
METHOD:PUBLISH
BEGIN:VEVENT
UID:20200301T015657UTC-1714XRUvOb@https://www.actraining.com.au/
DTSTAMP:20200301T015657Z
DESCRIPTION:Throughout our course TLILIC2001 (Licence to operate a forklift
  truck) the participant will learn the fundamental skills &amp\; knowledge
  to operate a Forklift Truck\, &amp\; identify &amp\; control potential ha
 zardous situations. At ACT we are committed to provide comprehensive train
 ing that produces superior skills to lead to a more productive &amp\; safe
 r workplace. Upon successful assessment the trainee will hold a National L
 icence to Perform High Risk Work Class LF (Forklift Truck).Some aspects of
  the course include:Assess &amp\; Secure Equipment &amp\; Work AreaConduct
  routine checksPlan workShift LoadParkingShutdownPost operational checksSe
 cure siteTraining: Monday &amp\; Tuesday&nbsp\;Safework Assessment: Wednes
 day&nbsp\;Time: 7am - 3pm dailyCost: $575&nbsp\;&nbsp\; https://www.actrai
 ning.com.au/en/calendar/event/555-forklift
DTSTART:20200203T000000Z
DTEND:20200205T105924Z
LOCATION: ()
SUMMARY: Forklift 
URL:https://www.actraining.com.au/en/calendar/event/555-forklift
END:VEVENT
END:VCALENDAR
